BEGIN:VCALENDAR
VERSION:2.0
PRODID:-//wp-events-plugin.com//7.1.7//EN
BEGIN:VEVENT
UID:9081@powiat.poznan.pl
DTSTART:20250626T230000Z
DTEND:20250628T230000Z
DTSTAMP:20250522T090730Z
URL:https://powiat.poznan.pl/events/klasyki-prl-i-mikrusy/
SUMMARY:Klasyki PRL i Mikrusy
DESCRIPTION:Zlot Klasyków z PRL-u i Mikrusów – Zborowo 2025\n\nW ostatn
 i weekend czerwca (27–29.06.2025) zapraszamy na wydarzenie motoryzacyjne
  – I Zlot Klasyków z PRL-u oraz II Zlot Samochodów Mikrus. Spotkanie o
 dbędzie się na Owocowej Plaży w Zborowie nad Jeziorem Niepruszewskim.\n
 \nTo niepowtarzalna okazja\, by zobaczyć z bliska kultowe pojazdy minione
 j epoki\, porozmawiać z pasjonatami motoryzacji i poczuć klimat dawnych 
 lat.\n\n
ATTACH;FMTTYPE=image/jpeg:https://powiat.poznan.pl/wp-content/uploads/2025
 /05/d10.webp
CATEGORIES:Dla dzieci,Dla seniora,Piknik,Rozrywka,Społeczne
LOCATION:Owocowa Plaża\, Owocowa Plaża\, Zborowo\, 62-070\, Poland
GEO:52.373133;16.625929
X-APPLE-STRUCTURED-LOCATION;VALUE=URI;X-ADDRESS=Owocowa Plaża\, Zborowo\, 
 62-070\, Poland;X-APPLE-RADIUS=100;X-TITLE=Owocowa Plaża:geo:52.373133,16
 .625929
END:VEVENT
END:VCALENDAR