BEGIN:VCALENDAR
VERSION:2.0
PRODID:-//wp-events-plugin.com//7.1.7//EN
BEGIN:VEVENT
UID:8543@powiat.poznan.pl
DTSTART:20241025T170000Z
DTEND:20241025T170000Z
DTSTAMP:20241017T080122Z
URL:https://powiat.poznan.pl/events/kleszczewska-zlota-jesien-z-halina-fra
 ckowiak/
SUMMARY:Kleszczewska ZŁOTA JESIEŃ z Haliną Frąckowiak
DESCRIPTION:Kleszczewska ZŁOTA JESIEŃ - Wystąpi Halina Frąckowiak\nWię
 cej informacji na kleszczewo.pl\n\n\n\n&nbsp\;
ATTACH;FMTTYPE=image/jpeg:https://powiat.poznan.pl/wp-content/uploads/2024
 /10/kleszczewska-zlota-jesien_2024_plakat.jpg
CATEGORIES:Kultura i sztuka
LOCATION:Hala Widowiskowo - Sportowa GOKiS w  Kleszczewie\, ul. Poznańska 
 2\, Kleszczewo\, 63-005\, Poland
GEO:52.3362489;17.166161999999986
X-APPLE-STRUCTURED-LOCATION;VALUE=URI;X-ADDRESS=ul. Poznańska 2\, Kleszcze
 wo\, 63-005\, Poland;X-APPLE-RADIUS=100;X-TITLE=Hala Widowiskowo - Sportow
 a GOKiS w  Kleszczewie:geo:52.3362489,17.166161999999986
END:VEVENT
END:VCALENDAR