BEGIN:VCALENDAR
VERSION:2.0
PRODID:-//wp-events-plugin.com//7.1.7//EN
BEGIN:VEVENT
UID:6326@powiat.poznan.pl
DTSTART:20221001T170000Z
DTEND:20221001T170000Z
DTSTAMP:20220920T093348Z
URL:https://powiat.poznan.pl/events/koncert-canzona/
SUMMARY:Koncert CANZONA
DESCRIPTION:Koncert z okazji 41. Urodzin Chóru Dziewczęcego "CANZONA"\n\n
 Więcej informacji TUTAJ\n\n
ATTACH;FMTTYPE=image/jpeg:https://powiat.poznan.pl/wp-content/uploads/2022
 /09/plakat_informacyjny_koncert._wstep_wolny.-scaled.jpg
CATEGORIES:Dla dzieci,Dla seniora,Kultura i sztuka
LOCATION:Aula Szkoły w Murowanej Goślinie\, ul. Mściszewska 10\, Murowan
 a Goślina\, Poland
GEO:52.5759122;17.001585100000057
X-APPLE-STRUCTURED-LOCATION;VALUE=URI;X-ADDRESS=ul. Mściszewska 10\, Murow
 ana Goślina\, Poland;X-APPLE-RADIUS=100;X-TITLE=Aula Szkoły w Murowanej 
 Goślinie:geo:52.5759122,17.001585100000057
END:VEVENT
END:VCALENDAR