BEGIN:VCALENDAR
VERSION:2.0
PRODID:-//wp-events-plugin.com//7.1.7//EN
BEGIN:VEVENT
UID:8568@powiat.poznan.pl
DTSTART:20241025T180000Z
DTEND:20241025T180000Z
DTSTAMP:20241025T125949Z
URL:https://powiat.poznan.pl/events/koncert-charytatywny-w-komornikach/
SUMMARY:Koncert charytatywny w Komornikach
DESCRIPTION:Koncert charytatywny w Komornikach\nWięcej informacji na komor
 niki.pl\n\n
ATTACH;FMTTYPE=image/jpeg:https://powiat.poznan.pl/wp-content/uploads/2024
 /10/komorniki_plakat-2-poprawka-v21.jpg
CATEGORIES:Społeczne
LOCATION:Sala Widowiskowa w Centrum Tradycji i Kultury w Komornikach\, ul. 
 Kościelna 37\, Komorniki\, Poland
GEO:52.336634;16.801131
X-APPLE-STRUCTURED-LOCATION;VALUE=URI;X-ADDRESS=ul. Kościelna 37\, Komorni
 ki\, Poland;X-APPLE-RADIUS=100;X-TITLE=Sala Widowiskowa w Centrum Tradycji
  i Kultury w Komornikach:geo:52.336634,16.801131
END:VEVENT
END:VCALENDAR