BEGIN:VCALENDAR
VERSION:2.0
PRODID:-//wp-events-plugin.com//7.1.7//EN
BEGIN:VEVENT
UID:8975@powiat.poznan.pl
DTSTART:20250510T180000Z
DTEND:20250510T200000Z
DTSTAMP:20250506T101922Z
URL:https://powiat.poznan.pl/events/koncert-cugowskiego/
SUMMARY:Koncert Cugowskiego
DESCRIPTION:Już wkrótce niezwykłe wydarzenie muzyczne – akustyczny kon
 cert Wojtka Cugowskiego\, wybitnego gitarzysty\, wokalisty i kompozytora! 
 To doskonała okazja\, by na żywo doświadczyć niezwykłej energii oraz 
 kunsztu artystycznego jednego z najbardziej cenionych muzyków rockowych w
  Polsce.\n\nCzego możesz się spodziewać?\n\n 	Klimatycznych akustycznyc
 h aranżacji i charyzmatycznego wokalu\,\n 	Największych przebojów oraz 
 nowości muzycznych w wyjątkowej odsłonie\,\n 	Niezapomnianej atmosfery 
 i wrażeń\, które pozostaną z Tobą na długo!\n\nNie przegap tej szans
 y – zakup swój bilet już dziś i bądź częścią tego wyjątkowego w
 ieczoru!\n\n
ATTACH;FMTTYPE=image/jpeg:https://powiat.poznan.pl/wp-content/uploads/2025
 /05/5q.webp
CATEGORIES:Kultura i sztuka
LOCATION:Gminna Biblioteka Publiczna i Centrum Kultury w Dopiewie\, ul. Kon
 arzewska 12\, Dopiewo\, 62-070\, Poland
GEO:52.3580169;16.683467000000064
X-APPLE-STRUCTURED-LOCATION;VALUE=URI;X-ADDRESS=ul. Konarzewska 12\, Dopiew
 o\, 62-070\, Poland;X-APPLE-RADIUS=100;X-TITLE=Gminna Biblioteka Publiczna
  i Centrum Kultury w Dopiewie:geo:52.3580169,16.683467000000064
END:VEVENT
END:VCALENDAR