BEGIN:VCALENDAR
VERSION:2.0
PRODID:-//wp-events-plugin.com//7.1.7//EN
BEGIN:VEVENT
UID:8561@powiat.poznan.pl
DTSTART:20241027T110000Z
DTEND:20241027T120000Z
DTSTAMP:20241025T125008Z
URL:https://powiat.poznan.pl/events/koncert-dla-powodzian-w-jelonku/
SUMMARY:Koncert dla powodzian w Jelonku
DESCRIPTION:Pomagamy powodzianom – koncert\nWięcej informacji na suchyla
 s.pl\n\n
ATTACH;FMTTYPE=image/jpeg:https://powiat.poznan.pl/wp-content/uploads/2024
 /10/koncert_-wojt-gminy-suchy-las-grzegorz-wojtera-i-proboszcz-parafii-w-z
 lotnikach.jpg
CATEGORIES:Kultura i sztuka,Społeczne
LOCATION:Kościół pw. św. Joanny Beretty-Molli w Jelonku\, ul. Złotnick
 a 4\, 62-002 Jelonek\, Poland
GEO:51.143177;16.889888
X-APPLE-STRUCTURED-LOCATION;VALUE=URI;X-ADDRESS=ul. Złotnicka 4\, 62-002 J
 elonek\, Poland;X-APPLE-RADIUS=100;X-TITLE=Kościół pw. św. Joanny Bere
 tty-Molli w Jelonku:geo:51.143177,16.889888
END:VEVENT
END:VCALENDAR