BEGIN:VCALENDAR
VERSION:2.0
PRODID:-//wp-events-plugin.com//7.1.7//EN
BEGIN:VEVENT
UID:8856@powiat.poznan.pl
DTSTART:20250411T173000Z
DTEND:20250411T173000Z
DTSTAMP:20250210T085111Z
URL:https://powiat.poznan.pl/events/koncert-duetu-fun-fatale/
SUMMARY:Koncert Duetu Fun Fatale
DESCRIPTION:Koncert Duetu Fun Fatale\nW piątek\, 11 kwietnia o godz.18.30 
 w Dworze Skrzynki zapowiada się niezwykłe muzyczne wydarzenie.  Podczas
  koncertu duetu Fun Fatale usłyszymy m.in. wspaniałe i niezapomniane pio
 senki\, takie jak: Wicked Game (Chris Isaac)\, Back to Black (Amy Winehous
 e)\, Wonderful life (Katie Melua)\, Just the Two of Us (Grover Washington)
 \, Harvest Love (Tash Sultana)\, Former me (J.J. Cale) i wiele innych. Nie
  zabraknie też kilku własnych utworów z repertuaru zespołu.\n\nFun Fat
 ale stanowi duet stworzony przez gitarzystę i kompozytora Macieja Pruchni
 ewicza oraz Marię Domańską – wokalistkę i autorkę tekstów. Jest to
  projekt muzyczny\, u podstaw którego leży przekonanie\, że piosenki na
 dal mają moc\, by zmieniać świat\, w którym wciąż mieści się wiele
  zła. Fun Fatale\, gdyż zabawa ludzkości bez myślenia o konsekwencjach
  doprowadziła nas na skraj zagłady\, a w polityczno- ekonomicznych rozgr
 ywkach ludzie nadal są pionkami. Czas bezrefleksyjnej konsumpcji i nieoki
 ełznanej eksploatacji ziemi dobiegł końca. Żeby ocalić planetę i roz
 począć nową erę w jej dziejach\, musimy wszyscy zjednoczyć się w wys
 iłkach. Twórcy projektu Fun Fatale we wspólną walkę\, by słowo “cz
 łowiek” znowu zabrzmiało dumnie\, włączają się dźwiękami i słow
 ami.\n\nMaciej jest obecny na scenie muzycznej od szeregu lat. Pierwsze kr
 oki stawiał w poznańskim bluesowo-rockowym zespole Hot Water. Uczestnicz
 ył w wielu projektach\, współpracując i koncertując z polskimi oraz z
 agranicznymi artystami. Z czasem jego upodobania ewoluowały bardziej w ki
 erunku muzyki improwizowanej z pogranicza jazzu\, etno i awangardy – cze
 go wyrazem jest nagrana z Szymonem Siwierskim instrumentalna płyta Mist L
 ive Dragon. Marysia\, która niedawno wkroczyła na muzyczną ścieżkę\,
  wnosi do zespołu świeżość i urzekający głos. Jej debiutancki wyst
 ęp miał miejsce na prestiżowej scenie Auli UAM w Poznaniu i spotkał si
 ę ze znakomitym przyjęciem.\n\nBilety do nabycia on-line. Spotkanie zacz
 nijmy jednak jak zwykle z co najmniej półgodzinnym wyprzedzeniem\, ponie
 waż -przypominamy\, że w trakcie koncertu serwis restauracji jest nieczy
 nny. Zapraszamy do skorzystania z oferty gastronomicznej restauracji Dworu
  Skrzynki przed i po koncercie.\n\nPrzygotował: Instytut Skrzynki\n\n
ATTACH;FMTTYPE=image/jpeg:https://powiat.poznan.pl/wp-content/uploads/2025
 /02/1-7.jpg
CATEGORIES:Kultura i sztuka
LOCATION:Dwór Skrzynki\, Plac Parkowy 1\, Skrzynki\, gm. Stęszew\, 62-060
 \, Poland
GEO:52.342096;16.606405
X-APPLE-STRUCTURED-LOCATION;VALUE=URI;X-ADDRESS=Plac Parkowy 1\, Skrzynki\,
  gm. Stęszew\, 62-060\, Poland;X-APPLE-RADIUS=100;X-TITLE=Dwór Skrzynki:
 geo:52.342096,16.606405
END:VEVENT
END:VCALENDAR