BEGIN:VCALENDAR
VERSION:2.0
PRODID:-//wp-events-plugin.com//7.1.7//EN
BEGIN:VEVENT
UID:8419@powiat.poznan.pl
DTSTART:20241006T163000Z
DTEND:20241006T163000Z
DTSTAMP:20240930T145605Z
URL:https://powiat.poznan.pl/events/koncert-jak-za-dawnych-lat/
SUMMARY:Koncert jak za dawnych lat
DESCRIPTION:Weekend Seniora w Skrzynkach – Koncert „Jak za dawnych lat
 ”.\nW niedzielę 6 października zapraszamy wszystkich Seniorów na godz
 . 17:30 do Dworu Skrzynki (gm. Stęszew\, pow. poznański)  na KONCERT 
 „Jak za dawnych lat”\, w którym będzie można usłyszeć znane i lub
 iane piosenki.\n\nZaśpiewa znakomita wokalistka Marzena Scholz\, a towarz
 yszyć jej będzie na instrumentach klawiszowych Michał Szóstek.\n\nWst
 ęp na koncert jest wolny – prosimy jedynie o potwierdzenie obecności m
 ailowo pod adresem kontakt@dworskrzynki.pl\n\nMarzena Scholz jest absolwen
 tką Akademii Muzycznej w Poznaniu. Występowała i występuje z najwięks
 zymi artystami polskiej muzyki rozrywkowej: Hanną Banaszak\, Mieczysławe
 m Szcześniakiemoraz  nieodżałowanymi Krzysztofem Krawczykiem i Wojciec
 hem Kordą. Śpiewała z zespołem Bolter i Trubadurami. Nagrała też sol
 owa płytę "Słowa\, gesty”. Bardzo ceni stare\, dobre kompozycje i pio
 senki przedwojennej Warszawy. Tak narodził się projekt koncertu „W sta
 rym kinie”\n\nMichał Szóstek – pianista\, instrumentalista klawiszow
 y zakochany w jazzie i dobrze znany wielbicielom muzyki synkopowanej. Już
  w latach 70-tych ubiegłego wieku grywał w różnych formacjach. Występ
 ował z Haliną Żytkowiak i Barbarą Łuczak i przez wiele lat akompaniow
 ał Hannie Banaszak. Grywał tez sporo zagranicą \, a jako Grupa Szóstka
  promował kompozycje Krzysztofa Komedy. Pracował tez z gwiazdami kabaret
 u – Jerzym Pietrzakiem i Krzysztofem Daukszewiczem. Wieloletnia współp
 raca z redaktorem muzycznym Krzysztofem Wodniczakiem w Jeżyckim Centrum K
 ultury zaowocowała realizacją festiwali i warsztatów Andrzeja Rybińsk
 iego oraz Faridy. Jest też doskonale znany bywalcom Dworu Skrzynki z coni
 edzielnych mini recitali.\n\nBędzie zatem w Skrzynkach nastrojowo\, nieco
  jazzowo ale przede wszystkim wybrzmią doskonale znane piosenki.\n\nZapra
 szamy serdecznie!\n\nKoncert rozpoczyna się o 17:30\, ale ze względu na 
 fakt\, że w trakcie koncertu serwis restauracji jest nieczynny\, prosimy 
 o przybycie z co najmniej półgodzinnym wyprzedzeniem.  Zachęcamy równ
 ież do skorzystania z naszej oferty gastronomicznej po zakończeniu muzyc
 znej części wieczoru.\n\n przygotował: Instytut Skrzynki\n\n&nbsp\;\n\
 n
ATTACH;FMTTYPE=image/jpeg:https://powiat.poznan.pl/wp-content/uploads/2024
 /09/koncert-na-www.jpg
CATEGORIES:Dla seniora,Kultura i sztuka
LOCATION:Dwór Skrzynki\, Plac Parkowy 1\, Skrzynki\, gm. Stęszew\, 62-060
 \, Poland
GEO:52.342096;16.606405
X-APPLE-STRUCTURED-LOCATION;VALUE=URI;X-ADDRESS=Plac Parkowy 1\, Skrzynki\,
  gm. Stęszew\, 62-060\, Poland;X-APPLE-RADIUS=100;X-TITLE=Dwór Skrzynki:
 geo:52.342096,16.606405
END:VEVENT
END:VCALENDAR