BEGIN:VCALENDAR
VERSION:2.0
PRODID:-//wp-events-plugin.com//7.1.7//EN
BEGIN:VEVENT
UID:9236@powiat.poznan.pl
DTSTART:20250711T190000Z
DTEND:20250711T210000Z
DTSTAMP:20250625T131754Z
URL:https://powiat.poznan.pl/events/koncert-letni-w-rokietnicy-2/
SUMMARY:Koncert letni w Rokietnicy
DESCRIPTION:Koncert letni w Rokietnicy Lanberry\, czyli Małgorzaty Uścił
 owskej\, polskiej piosenkarki\, autorki tekstów i kompozytorki.\n\nJu
 ż 11 lipca 2025 roku zapraszamy na wyjątkowe muzyczne wydarzenie – Let
 ni Koncert z Lanberry\, który odbędzie się na Polanie Rumpuciowej w Rok
 ietnicy! To doskonała okazja\, by spędzić letni wieczór przy dźwięka
 ch dobrej muzyki w świetnej atmosferze. Wstęp wolny!\n\nHarmonogram wyda
 rzenia:\n19:00 – Support: Wiktoria Gawron\n20:00 – Gwiazda wieczoru: L
 ANBERRY\n22:00–24:00 – After Party z Dee Jay Kacprem\n\n&nbsp\;\n\n&nb
 sp\;\n\n
ATTACH;FMTTYPE=image/jpeg:https://powiat.poznan.pl/wp-content/uploads/2025
 /06/r1.jpg
CATEGORIES:Dla dzieci,Dla seniora,Kultura i sztuka,Rozrywka
LOCATION:Polana Rumpuciowa Rokietnica\, Polana Rumpuciowa Rokietnica\, Roki
 etnica\, wielkopolskie\, Poland
GEO:52.506415;16.739053
X-APPLE-STRUCTURED-LOCATION;VALUE=URI;X-ADDRESS=Polana Rumpuciowa Rokietnic
 a\, Rokietnica\, wielkopolskie\, Poland;X-APPLE-RADIUS=100;X-TITLE=Polana 
 Rumpuciowa Rokietnica:geo:52.506415,16.739053
END:VEVENT
END:VCALENDAR