BEGIN:VCALENDAR
VERSION:2.0
PRODID:-//wp-events-plugin.com//7.1.7//EN
BEGIN:VEVENT
UID:9086@powiat.poznan.pl
DTSTART:20250526T170000Z
DTEND:20250526T180000Z
DTSTAMP:20250522T091840Z
URL:https://powiat.poznan.pl/events/koncert-retrofonii/
SUMMARY:Koncert RetroFonii
DESCRIPTION:Zapraszamy do udziału w koncercie zespołu RetroFonia pt. “T
 ango Grechuta – ocalić od zapomnienia… ” to pełna liryzmu opowieś
 ć o poszukiwaniu miłości\, zrozumienia i prawdziwego człowieczeństwa 
 w naszych czasach…Największe przeboje Marka Grechuty: Korowód\, Będzi
 esz moją panią\, Niepewność\, Nie dokazuj\, Dni\, których nie znamy 
 – wreszcie tytułowe Ocalić od zapomnienia\, w przewrotnych aranżacjac
 h Jana Zeylanda\, przeplatane poezją innego niepokornego artysty ubiegłe
 go wieku Edwarda Stachury\, są gwarancją niezwykle bogatej i nieoczywist
 ej muzycznej podróży\, do której zaprasza Państwa zespół RetroFonia.
 \n\n
ATTACH;FMTTYPE=image/jpeg:https://powiat.poznan.pl/wp-content/uploads/2025
 /05/d8.jpg
CATEGORIES:Kultura i sztuka,Rozrywka,Społeczne
LOCATION:Sala widowiskowa w Konarzewie\, Sala widowiskowa w Konarzewie\, Ko
 narzewo\, Poland
GEO:52.334991;16.72443240000007
X-APPLE-STRUCTURED-LOCATION;VALUE=URI;X-ADDRESS=Sala widowiskowa w Konarzew
 ie\, Konarzewo\, Poland;X-APPLE-RADIUS=100;X-TITLE=Sala widowiskowa w Kona
 rzewie:geo:52.334991,16.72443240000007
END:VEVENT
END:VCALENDAR