BEGIN:VCALENDAR
VERSION:2.0
PRODID:-//wp-events-plugin.com//7.1.7//EN
BEGIN:VEVENT
UID:8458@powiat.poznan.pl
DTSTART:20241025T180000Z
DTEND:20241025T180000Z
DTSTAMP:20241003T074706Z
URL:https://powiat.poznan.pl/events/koncert-roze-europy/
SUMMARY:Koncert Róże Europy
DESCRIPTION:Koncert Róże Europy\nWięcej informacji czerwonak.pl\n\n
ATTACH;FMTTYPE=image/jpeg:https://powiat.poznan.pl/wp-content/uploads/2024
 /10/koncert_87780rozeeuropycoverkwadratmalyjpg.jpg
CATEGORIES:Kultura i sztuka
LOCATION:Centrum Kultury i Rekreacji w Koziegłowach\, ul.  Piłsudskiego 3
 \, Koziegłowy\, 62-028\, Poland
GEO:52.4482568;16.991473799999994
X-APPLE-STRUCTURED-LOCATION;VALUE=URI;X-ADDRESS=ul.  Piłsudskiego 3\, Kozi
 egłowy\, 62-028\, Poland;X-APPLE-RADIUS=100;X-TITLE=Centrum Kultury i Rek
 reacji w Koziegłowach:geo:52.4482568,16.991473799999994
END:VEVENT
END:VCALENDAR