BEGIN:VCALENDAR
VERSION:2.0
PRODID:-//wp-events-plugin.com//7.1.7//EN
BEGIN:VEVENT
UID:8539@powiat.poznan.pl
DTSTART:20241017T180000Z
DTEND:20241017T180000Z
DTSTAMP:20241015T120305Z
URL:https://powiat.poznan.pl/events/koncert-sonii-bohosiewicz-w-mosinie/
SUMMARY:Koncert Sonii Bohosiewicz w Mosinie
DESCRIPTION:Koncert Sonii Bohosiewicz „10 sekretów Marilyn Monroe”\nWi
 ęcej informacji na mosina.pl\n\nZapraszamy na „10 sekretów Marilyn Mon
 roe”\, koncert poświęcony najsłynniejszej blondynce świata w wykonan
 iu znakomitej polskiej aktorki i wokalistki\, kobiety z temperamentem i ta
 jemniczym błyskiem w oku – Sonia Bohosiewicz.\n\nW repertuarze utwory M
 arilyn Monroe\, Elli Fitzgerald czy Franka Sinatry\, w tym piosenki znane 
 publiczności z filmu Janusza Majewskiego „Excentrycy\, czyli po słonec
 znej stronie ulicy”\, m.in. „I wanna be loved by you”\, „On the Su
 nny Side of the Street”\, „New York\, New York”\, „I’ve got you 
 under my skin” czy „I’m beginning to see the light”… i opowieśc
 i o sekretach wielkiej MM.\n\nNa scenie wspaniali muzycy grający na żywo
 :\n\n 	Fabian Włodarek – fortepian\,\n 	Robert Murakowski – trąbka\,
  flugelhorn\,\n 	Piotr Górka – kontrabas\,\n 	Patryk Dobosz – perkusj
 a.\n\nKoncert odbędzie się 17 października 2024 r.\, o godz. 19:00 w sa
 li reprezentacyjnej Mosińskiego Ośrodka Kultury ul. Dworcowa 4.\n\n\nBil
 ety do nabycia w Mosińskim Ośrodki Kultury w cenie 50\,00 pln i 45\,00 p
 ln (z Mosińską Kartą Mieszkańca)\, oraz na portalu Bilety24: https://w
 ww.bilety24.pl/kup-bilet-na-378-sonia-bohosiewicz-z-zespolem–109710?id=6
 22872\n\nInformacja: www.mosina.p
ATTACH;FMTTYPE=image/jpeg:https://powiat.poznan.pl/wp-content/uploads/2021
 /10/event-kalendarz.png
CATEGORIES:Kultura i sztuka
LOCATION:Mosiński Ośrodek Kultury\,  Dworcowa 4\, Mosina\, Poland
GEO:52.2422319;16.850597900000025
X-APPLE-STRUCTURED-LOCATION;VALUE=URI;X-ADDRESS= Dworcowa 4\, Mosina\, Pola
 nd;X-APPLE-RADIUS=100;X-TITLE=Mosiński Ośrodek Kultury:geo:52.2422319,16
 .850597900000025
END:VEVENT
END:VCALENDAR