BEGIN:VCALENDAR
VERSION:2.0
PRODID:-//wp-events-plugin.com//7.1.7//EN
BEGIN:VEVENT
UID:9172@powiat.poznan.pl
DTSTART:20250628T193000Z
DTEND:20250628T210000Z
DTSTAMP:20250623T093609Z
URL:https://powiat.poznan.pl/events/koncert-the-ocelots/
SUMMARY:Koncert The Ocelots
DESCRIPTION:Irlandzkiego pochodzenia\, grające alternatywny folk i zyskuj
 ące uznanie publiki bliźniaczymi harmoniami wokalnymi. Zapraszamy na pie
 rwszy w tym sezonie koncert plenerowy.\n\nDla publiczności wystąpi zesp
 ół The Ocelots\, grupa stworzona przez bliźniaków Ashleya i Brandona W
 atsonów. Agencja Koncertowa Borówka Music\, która opiekuje się artyst
 ami\, zapewnia\, że świat zwalnia podczas występów tych braci. Brzmi t
 o jak relaks\, który przyda się nam wszystkim. A efektu dopełni klimaty
 czna oprawa Podwórka SEZAMU i widownia ustawiona z wygodnych leżaków. J
 ak irlandzki zespół brzmi na żywo?\n\nThe Ocelots mają już na koncie 
 dwa krążki: „Started to Wonder” (2020) oraz „Everything\, When Sai
 d Slowly” (2025) i doświadczenie sceniczne. Od kilku lat mieszkają w L
 ipsku (Niemcy)\, gdzie osiedlili się  po jednej ze swoich międzynarodo
 wych tras koncertowych. Co ciekawe\, The Ocelots właśnie supportują Th
 e Swell Season (oscarowy duet z filmu „Once”) na europejskiej trasie!\
 n\n\n\n&nbsp\;
ATTACH;FMTTYPE=image/jpeg:https://powiat.poznan.pl/wp-content/uploads/2025
 /06/t3.jpg
CATEGORIES:Kultura i sztuka,Rozrywka
LOCATION:Centrum Kultury Przeźmierowo\, ul. Ogrodowa 13a\, Przeźmierowo\,
  Poland
GEO:52.43219800000001;16.776851899999997
X-APPLE-STRUCTURED-LOCATION;VALUE=URI;X-ADDRESS=ul. Ogrodowa 13a\, Przeźmi
 erowo\, Poland;X-APPLE-RADIUS=100;X-TITLE=Centrum Kultury Przeźmierowo:ge
 o:52.43219800000001,16.776851899999997
END:VEVENT
END:VCALENDAR