BEGIN:VCALENDAR
VERSION:2.0
PRODID:-//wp-events-plugin.com//7.1.7//EN
BEGIN:VEVENT
UID:9308@powiat.poznan.pl
DTSTART:20250830T180000Z
DTEND:20250830T200000Z
DTSTAMP:20250821T065323Z
URL:https://powiat.poznan.pl/events/koncert-w-pobiedziskach-6/
SUMMARY:Koncert w Pobiedziskach
DESCRIPTION:Zapraszamy na kolejne wydarzenie z cyklu Koncerty Jerzykowskie.
  Tym razem odbędzie się ono w sali widowiskowej Ośrodka Kultury w Pobie
 dziskach. – Zapraszamy na wyjątkowy koncert duetu Wspak\, dwóch charyz
 matycznych artystek\, Aleksandry Pura-Cidyło i Adrianny Marii Kufel-Woźn
 iak. Przy akompaniamencie instrumentów strunowych rodem z Kresów usłysz
 ymy w autorskim opracowaniu pieśni kresowe i łemkowskie – mówi Aleksa
 ndra Mazurek ze Stowarzyszenia Vena Pobiedziska\, organizatorka wydarzenia
 . Koncert zaplanowano na 30 sierpnia\, o godz. 19.00. Wstęp jak zawsze w
 olny. Więcej informacji na plakacie.\n\n
ATTACH;FMTTYPE=image/jpeg:https://powiat.poznan.pl/wp-content/uploads/2025
 /08/wspak-1.jpg
CATEGORIES:Kultura i sztuka,Rozrywka,Społeczne
LOCATION:Biblioteka w Pobiedziskach\, ul. Kostrzyńska 21\, Pobiedziska\, P
 oland
GEO:52.4754267;17.287649699999974
X-APPLE-STRUCTURED-LOCATION;VALUE=URI;X-ADDRESS=ul. Kostrzyńska 21\, Pobie
 dziska\, Poland;X-APPLE-RADIUS=100;X-TITLE=Biblioteka w Pobiedziskach:geo:
 52.4754267,17.287649699999974
END:VEVENT
END:VCALENDAR