BEGIN:VCALENDAR
VERSION:2.0
PRODID:-//wp-events-plugin.com//7.1.7//EN
BEGIN:VEVENT
UID:9587@powiat.poznan.pl
DTSTART:20260212T180000Z
DTEND:20260212T200000Z
DTSTAMP:20260203T080358Z
URL:https://powiat.poznan.pl/events/koncert-walentynkowy-w-pobiedziskach/
SUMMARY:Koncert Walentynkowy w Pobiedziskach
DESCRIPTION:Koncert Walentynkowy 2026\n
ATTACH;FMTTYPE=image/jpeg:https://powiat.poznan.pl/wp-content/uploads/2026
 /02/the_love_songs_plakat_pok.jpg
CATEGORIES:Koncert
LOCATION:Pobiedziski Ośrodek Kultury\, ul. Kostrzyńska 21\, Pobiedziska\,
  62-010\, Poland
GEO:52.4754267;17.287649699999974
X-APPLE-STRUCTURED-LOCATION;VALUE=URI;X-ADDRESS=ul. Kostrzyńska 21\, Pobie
 dziska\, 62-010\, Poland;X-APPLE-RADIUS=100;X-TITLE=Pobiedziski Ośrodek K
 ultury:geo:52.4754267,17.287649699999974
END:VEVENT
END:VCALENDAR