BEGIN:VCALENDAR
VERSION:2.0
PRODID:-//wp-events-plugin.com//7.1.7//EN
BEGIN:VEVENT
UID:8394@powiat.poznan.pl
DTSTART:20240921T160000Z
DTEND:20240921T160000Z
DTSTAMP:20240920T132852Z
URL:https://powiat.poznan.pl/events/koncert-wujka-ogorka-2/
SUMMARY:Koncert Wujka Ogórka
DESCRIPTION:Koncert Wujka Ogórka\nWięcej informacji dopiewo\n\n
ATTACH;FMTTYPE=image/jpeg:https://powiat.poznan.pl/wp-content/uploads/2024
 /09/koncert-wujek-ogorek-zmiana-terminu.jpg.webp
CATEGORIES:Kultura i sztuka
LOCATION:Figowy Zakątek\, Skórzewo\, 60-185 Skórzewo\, Poland
GEO:52.390627;16.791912
X-APPLE-STRUCTURED-LOCATION;VALUE=URI;X-ADDRESS=Skórzewo\, 60-185 Skórzew
 o\, Poland;X-APPLE-RADIUS=100;X-TITLE=Figowy Zakątek:geo:52.390627,16.791
 912
END:VEVENT
END:VCALENDAR