BEGIN:VCALENDAR
VERSION:2.0
PRODID:-//wp-events-plugin.com//7.1.7//EN
BEGIN:VEVENT
UID:8370@powiat.poznan.pl
DTSTART:20241006T160000Z
DTEND:20241006T160000Z
DTSTAMP:20240920T092125Z
URL:https://powiat.poznan.pl/events/koncert-zespolu-baciary-2/
SUMMARY:Koncert zespołu Baciary
DESCRIPTION:Koncert zespołu Baciary\nWięcej informacji na murowana-goslin
 a.pl\n\n
ATTACH;FMTTYPE=image/jpeg:https://powiat.poznan.pl/wp-content/uploads/2024
 /09/6-pazdziernika-godz.-17_00-aula-sp-1-ul.-msciszewska-10-koncert-zespol
 u-baciary-cena-biletow-50-zl-centrum-kultury-i-sportu-w-murowanej-goslinie
 -scaled.jpg
CATEGORIES:Kultura i sztuka
LOCATION:Aula SP Nr 1 w Murowanej Goślinie\, ul. Mściszewska 10\, Murowan
 a Goślina\, wielkopolskie\, Poland
GEO:52.575871;17.001751
X-APPLE-STRUCTURED-LOCATION;VALUE=URI;X-ADDRESS=ul. Mściszewska 10\, Murow
 ana Goślina\, wielkopolskie\, Poland;X-APPLE-RADIUS=100;X-TITLE=Aula SP N
 r 1 w Murowanej Goślinie:geo:52.575871,17.001751
END:VEVENT
END:VCALENDAR