BEGIN:VCALENDAR
VERSION:2.0
PRODID:-//wp-events-plugin.com//7.1.7//EN
BEGIN:VEVENT
UID:8566@powiat.poznan.pl
DTSTART:20241031T153000Z
DTEND:20241031T153000Z
DTSTAMP:20241025T124904Z
URL:https://powiat.poznan.pl/events/korowod-swietych-w-buku/
SUMMARY:Korowód świętych w Buku
DESCRIPTION:Korowód świętych\n\nWięcej informacji na buk.pl\n\n
ATTACH;FMTTYPE=image/jpeg:https://powiat.poznan.pl/wp-content/uploads/2024
 /10/korowod-swietych_buk_464475222_929627939200619_2372849489785147383_n.j
 pg
CATEGORIES:Dla dzieci
LOCATION:Sala Miejska w Buku\, ul. Mury 5\, Buk\, 64-320\, Poland
GEO:52.358263;16.518031
X-APPLE-STRUCTURED-LOCATION;VALUE=URI;X-ADDRESS=ul. Mury 5\, Buk\, 64-320\,
  Poland;X-APPLE-RADIUS=100;X-TITLE=Sala Miejska w Buku:geo:52.358263,16.51
 8031
END:VEVENT
END:VCALENDAR