BEGIN:VCALENDAR
VERSION:2.0
PRODID:-//wp-events-plugin.com//7.1.7//EN
BEGIN:VEVENT
UID:9688@powiat.poznan.pl
DTSTART:20260430T170000Z
DTEND:20260430T190000Z
DTSTAMP:20260423T093245Z
URL:https://powiat.poznan.pl/events/kreatywne-warsztaty-klub-rodziny-na-tr
 zy-gminy/
SUMMARY:Kreatywne warsztaty Klub Rodziny na trzy Gminy
DESCRIPTION:Kreatywne warsztaty organizowane w ramach realizowanego projekt
 u Klub Rodziny na trzy Gminy\, współfinansowanego ze środków powiatu p
 oznańskiego.\n\n
ATTACH;FMTTYPE=image/jpeg:https://powiat.poznan.pl/wp-content/uploads/2026
 /04/zrzut-ekranu-2026-04-23-112604.png
CATEGORIES:Dla dzieci,Piknik,Rozrywka,Społeczne
LOCATION:Świetlica Sołectwa Kiekrz-Pwłowice\, Kiekrz\, 62-090 Rokietnica
 \, Poland
GEO:52.487875;16.77621
X-APPLE-STRUCTURED-LOCATION;VALUE=URI;X-ADDRESS=Kiekrz\, 62-090 Rokietnica\
 , Poland;X-APPLE-RADIUS=100;X-TITLE=Świetlica Sołectwa Kiekrz-Pwłowice:
 geo:52.487875,16.77621
END:VEVENT
END:VCALENDAR