BEGIN:VCALENDAR
VERSION:2.0
PRODID:-//wp-events-plugin.com//7.1.7//EN
BEGIN:VEVENT
UID:1140@powiat.poznan.pl
DTSTART;VALUE=DATE:20180525
DTEND;VALUE=DATE:20180528
DTSTAMP:20180312T131010Z
URL:https://powiat.poznan.pl/events/kurdesz-kasztelanski/
SUMMARY:Kurdesz Kasztelański
DESCRIPTION:Jubileuszowy 40 Kurdesz Kasztelański\n\n\n
ATTACH;FMTTYPE=image/jpeg:https://powiat.poznan.pl/wp-content/uploads/2018
 /03/kurdesz-725x1024.jpg
CATEGORIES:Gale,Rozrywka
END:VEVENT
END:VCALENDAR