BEGIN:VCALENDAR
VERSION:2.0
PRODID:-//wp-events-plugin.com//7.1.7//EN
BEGIN:VEVENT
UID:6294@powiat.poznan.pl
DTSTART:20221001T170000Z
DTEND:20221001T180000Z
DTSTAMP:20220914T070537Z
URL:https://powiat.poznan.pl/events/lajfowe-odcienie/
SUMMARY:Lajfowe odcienie
DESCRIPTION:Lajfowe Odcienie Tańca\nWięcej informacji TUTAJ\n\n
ATTACH;FMTTYPE=image/jpeg:https://powiat.poznan.pl/wp-content/uploads/2022
 /09/normal_cbcf1896d5ca7bec28a2f4b04d9fca80914563a7.jpg
CATEGORIES:Dla seniora,Kultura i sztuka
LOCATION:Centrum Kultury Przeźmierowo\, ul. Ogrodowa 13a\, Przeźmierowo\,
  Poland
GEO:52.43219800000001;16.776851899999997
X-APPLE-STRUCTURED-LOCATION;VALUE=URI;X-ADDRESS=ul. Ogrodowa 13a\, Przeźmi
 erowo\, Poland;X-APPLE-RADIUS=100;X-TITLE=Centrum Kultury Przeźmierowo:ge
 o:52.43219800000001,16.776851899999997
END:VEVENT
END:VCALENDAR