BEGIN:VCALENDAR
VERSION:2.0
PRODID:-//wp-events-plugin.com//7.1.7//EN
BEGIN:VEVENT
UID:4868@powiat.poznan.pl
DTSTART:20200228T080000Z
DTEND:20200317T190000Z
DTSTAMP:20200213T143031Z
URL:https://powiat.poznan.pl/events/lap-kulture-wystawa-fotografii-cenia-p
 rzybylska/
SUMMARY:Łap Kulturę - wystawa fotografii - Cenia Przybylska
DESCRIPTION:Łap Kulturę - wystawa fotografii - Cenia Przybylska\n
ATTACH;FMTTYPE=image/jpeg:https://powiat.poznan.pl/wp-content/uploads/2020
 /02/85178282_2807224929358020_2380075776553779200_o.jpg
CATEGORIES:Kultura i sztuka
LOCATION:Gminny Ośrodek Kultury w Kleszczewie\, ul. Poznańska 2\, Kleszcz
 ewo\, 63-005\, Poland
GEO:52.336276;17.166170999999963
X-APPLE-STRUCTURED-LOCATION;VALUE=URI;X-ADDRESS=ul. Poznańska 2\, Kleszcze
 wo\, 63-005\, Poland;X-APPLE-RADIUS=100;X-TITLE=Gminny Ośrodek Kultury w 
 Kleszczewie:geo:52.336276,17.166170999999963
END:VEVENT
END:VCALENDAR