BEGIN:VCALENDAR
VERSION:2.0
PRODID:-//wp-events-plugin.com//7.1.7//EN
BEGIN:VEVENT
UID:3879@powiat.poznan.pl
DTSTART:20190708T090000Z
DTEND:20190712T130000Z
DTSTAMP:20190709T081937Z
URL:https://powiat.poznan.pl/events/lato-dla-seniora/
SUMMARY:Lato dla Seniora
DESCRIPTION:Lato 2019 w Centrum Aktywności Seniora\n
ATTACH;FMTTYPE=image/jpeg:https://powiat.poznan.pl/wp-content/uploads/2019
 /07/lato_w_cas_2019.jpg
CATEGORIES:Dla seniora
LOCATION:Centrum Aktywności Seniora\, ul. Piaski 4\, Swarzędz\, Wielkopol
 skie\, 62-020\, Poland
GEO:52.410048;17.07527600000003
X-APPLE-STRUCTURED-LOCATION;VALUE=URI;X-ADDRESS=ul. Piaski 4\, Swarzędz\, 
 Wielkopolskie\, 62-020\, Poland;X-APPLE-RADIUS=100;X-TITLE=Centrum Aktywno
 ści Seniora:geo:52.410048,17.07527600000003
END:VEVENT
END:VCALENDAR