BEGIN:VCALENDAR
VERSION:2.0
PRODID:-//wp-events-plugin.com//7.1.7//EN
BEGIN:VEVENT
UID:9261@powiat.poznan.pl
DTSTART:20250802T190000Z
DTEND:20250802T210000Z
DTSTAMP:20250731T072516Z
URL:https://powiat.poznan.pl/events/letni-festiwal-muzyczny-2/
SUMMARY:Letni festiwal muzyczny
DESCRIPTION:2 sierpnia o godzinie 20:00 w Długiej Goślinie rozpocznie si
 ę XXII Letni Festiwal Muzyczny „Musica Sacra\, Musica Profana” im. pr
 of. Stefana Stuligrosza. Koncert odbędzie się w plenerze\, obok kościo
 ła pw. św. Marii Magdaleny (Szlak Kościołów Drewnianych) w Długiej G
 oślinie. W tym roku wystąpią: Izabela Tarasiuk i Anatevka Klezmer Band 
 oraz zespół Raz\, Dwa\, Trzy.\n\n
ATTACH;FMTTYPE=image/jpeg:https://powiat.poznan.pl/wp-content/uploads/2025
 /07/plakat-ms-mp-a4-scaled.jpg
CATEGORIES:Dla dzieci,Dla seniora,Kultura i sztuka
LOCATION:Długa Goślina\, Długa Goślina\, Długa Goślina\, Poland
GEO:52.6348424;17.03300349999995
X-APPLE-STRUCTURED-LOCATION;VALUE=URI;X-ADDRESS=Długa Goślina\, Długa Go
 ślina\, Poland;X-APPLE-RADIUS=100;X-TITLE=Długa Goślina:geo:52.6348424,
 17.03300349999995
END:VEVENT
END:VCALENDAR