BEGIN:VCALENDAR
VERSION:2.0
PRODID:-//wp-events-plugin.com//7.1.7//EN
BEGIN:VEVENT
UID:5344@powiat.poznan.pl
DTSTART:20210905T120000Z
DTEND:20210905T120000Z
DTSTAMP:20210816T124024Z
URL:https://powiat.poznan.pl/events/lusowskie-spotkania-muzyczne-11/
SUMMARY:Lusowskie Spotkania Muzyczne
DESCRIPTION:Lusowskie Spotkania Muzyczne: Maciej Fortuna (trąbka\, obiekty
  brzmieniowe)\nMaciej Fortuna będzie kolejnym gościem 20. edycji Lusowsk
 ich Spotkań Muzycznych. Fortuna to trębacz\, kompozytor i producent muzy
 czny. Na co dzień często gra w opuszczonych i zapomnianych miejscach. Sa
 m twierdzi\, że „chce im dać w ten sposób trochę życia”. Przyznaj
 e\, że jego muzyczne medytacje są bardzo osobistą refleksją nad przemi
 janiem miejsc i idei. „Czasem towarzyszy mi wyzwalające radość uczuci
 e\, że świat przeszłości przeminął i jest tylko to co tu i teraz. Cz
 asem dźwięk trąbki wręcz rozsadza miejsca\, w których nikt i nic dawn
 o nie słyszało żadnego dźwięku.”\n\nŹródło oraz więcej informac
 ji na stronie GOK Sezam\n\n&nbsp\;
ATTACH;FMTTYPE=image/jpeg:https://powiat.poznan.pl/wp-content/uploads/2021
 /08/normal_c8670f89bafc39f5797190326d96e64bdfe86ff0.jpg
CATEGORIES:Kultura i sztuka
LOCATION:Kościół w Lusowie\, ul. Poznańska 2\, Lusowo\, Poland
GEO:52.4331554;16.696041700000023
X-APPLE-STRUCTURED-LOCATION;VALUE=URI;X-ADDRESS=ul. Poznańska 2\, Lusowo\,
  Poland;X-APPLE-RADIUS=100;X-TITLE=Kościół w Lusowie:geo:52.4331554,16.
 696041700000023
END:VEVENT
END:VCALENDAR