BEGIN:VCALENDAR
VERSION:2.0
PRODID:-//wp-events-plugin.com//7.1.7//EN
BEGIN:VEVENT
UID:8973@powiat.poznan.pl
DTSTART:20250509T090000Z
DTEND:20250509T110000Z
DTSTAMP:20250506T095849Z
URL:https://powiat.poznan.pl/events/madagaskar-w-dopiewie/
SUMMARY:Madagaskar w Dopiewie
DESCRIPTION:Prowadzący\, Fundacja Ankizy-Gasy – Dzieci Madagaskaru\, dzi
 ała zarówno w Polsce jak i na Madagaskarze\; główne obszary wokół kt
 órych koncentruje swoje działania to wsparcie edukacji małych Malgaszy 
 oraz programy dożywiania w placówkach edukacyjnych. Fundacja została za
 łożona przez dwie Polki – Patrycję Malik oraz Katarzynę Białous.\n\
 nFundacja prowadzi w Polsce warsztaty z edukacji globalnej – edukuje o c
 odzienności mieszkańców Czerwonej Wyspy. Fundacja wydała również ksi
 ążkę \,\,Legendy Madagaskaru”\, która jest zbiorem 6 malgaskich lege
 nd.\n\nSpotkanie obejmuje:\n\n 	czytanie jednej z bajek (historia jest ud
 źwiękowiona instrumentami z Madagaskaru)\;\n 	krótką prezentację o M
 adagaskarze\;\n 	słuchanie malgaskiej muzyki\;\n 	oglądanie artefaktów 
 przywiezionych z Madagaskaru (ubrań\, zabawek\, przedmiotów codziennego 
 użytku).\n\nSpotkanie dla grup zorganizowanych zapisy tel. 539 360 959\n\
 n
ATTACH;FMTTYPE=image/jpeg:https://powiat.poznan.pl/wp-content/uploads/2025
 /05/qqq.webp
CATEGORIES:Edukacja,Warsztaty
LOCATION:Gminna Biblioteka Publiczna i Centrum Kultury w Dopiewie\, ul. Kon
 arzewska 12\, Dopiewo\, 62-070\, Poland
GEO:52.3580169;16.683467000000064
X-APPLE-STRUCTURED-LOCATION;VALUE=URI;X-ADDRESS=ul. Konarzewska 12\, Dopiew
 o\, 62-070\, Poland;X-APPLE-RADIUS=100;X-TITLE=Gminna Biblioteka Publiczna
  i Centrum Kultury w Dopiewie:geo:52.3580169,16.683467000000064
END:VEVENT
END:VCALENDAR