BEGIN:VCALENDAR
VERSION:2.0
PRODID:-//wp-events-plugin.com//7.1.7//EN
BEGIN:VEVENT
UID:9412@powiat.poznan.pl
DTSTART;VALUE=DATE:20251014
DTEND;VALUE=DATE:20251114
DTSTAMP:20251002T082444Z
URL:https://powiat.poznan.pl/events/magia-wyobrazni/
SUMMARY:Magia wyobraźni
DESCRIPTION:We wtorek 14 października o godzinie 19:00 w holu Centrum Kult
 ury i Rekreacji w Koziegłowach odbędzie się wernisaż wystawy pt. Magia
  wyobraźni\, podczas którego swoje prace zaprezentują członkowie Wielk
 opolskiego Związku Artystów Plastyków.\n\nJak pisze\, Ewa J. Partyka: A
 lbert Einstein kiedyś powiedział: „Logika zaprowadzi Cię z punktu A d
 o punktu B. Wyobraźnia zaprowadzi Cię wszędzie”\; „Wyobraźnia bez 
 wiedzy może stworzyć rzeczy piękne. Wiedza bez wyobraźni najwyżej dos
 konałe”. Trudno nie zgodzić się ze słowami tego wybitnego myśliciel
 a. Wyobraźnia może zabrać nas tam\, gdzie nic się nie kończy\, a wszy
 stko zaczyna\, jak w magicznym świecie\, w którym rosną nam skrzydła\,
  a w nich szumi las\, szukając echa minionych barw. Jestem pewna\, iż du
 sza każdego artysty tkana jest z nut wyobraźni\, jeżeli nawet tak nie j
 est\, to z pewnością zawsze nosimy swoją\, niepowtarzalną melodię wyo
 braźni w jakiejś kieszeni\, niczym kamyk na szczęście. Tak obdarowani 
 przez los pragniemy wszyscy podzielić się owym magicznym kamykiem\, w po
 staci zgromadzonych prac na wystawie.\n\nWystawa będzie dostępna do 13 l
 istopada\, dając wszystkim zainteresowanym możliwość zanurzenia się w
  świat twórczej fantazji. Serdecznie zapraszamy na to wyjątkowe wydarze
 nie.\n\n
ATTACH;FMTTYPE=image/jpeg:https://powiat.poznan.pl/wp-content/uploads/2025
 /10/52842magiawyobrazniplakatpion1900jpgmalyjpg.jpg
CATEGORIES:Kultura i sztuka
LOCATION:Centrum Kultury i Rekreacji w Koziegłowach\, ul.  Piłsudskiego 3
 \, Koziegłowy\, 62-028\, Poland
GEO:52.4482568;16.991473799999994
X-APPLE-STRUCTURED-LOCATION;VALUE=URI;X-ADDRESS=ul.  Piłsudskiego 3\, Kozi
 egłowy\, 62-028\, Poland;X-APPLE-RADIUS=100;X-TITLE=Centrum Kultury i Rek
 reacji w Koziegłowach:geo:52.4482568,16.991473799999994
END:VEVENT
END:VCALENDAR