BEGIN:VCALENDAR
VERSION:2.0
PRODID:-//wp-events-plugin.com//7.1.7//EN
BEGIN:VEVENT
UID:8534@powiat.poznan.pl
DTSTART:20241016T170000Z
DTEND:20241016T170000Z
DTSTAMP:20241015T091422Z
URL:https://powiat.poznan.pl/events/male-jest-fascynujace-wyklad-w-korniku
 -bninie/
SUMMARY:"Małe jest fascynujące!" - wykład w Kórniku/Bninie
DESCRIPTION:"Małe jest fascynujące!" - wykład dr. hab. Szymona Konwerski
 ego w Filii w Kórniku/Bninie\nWięcej informacji na kornik.pl\n\n
ATTACH;FMTTYPE=image/jpeg:https://powiat.poznan.pl/wp-content/uploads/2024
 /10/male-jest-fascynujace_kornik.png
CATEGORIES:Wykład
LOCATION:Filia Biblioteki Publicznej w Kórniku-Bninie\, Rynek 16\, Kórnik
  - Bnin\, Wielkopolskie\, Poland
GEO:52.231174;17.095424
X-APPLE-STRUCTURED-LOCATION;VALUE=URI;X-ADDRESS=Rynek 16\, Kórnik - Bnin\,
  Wielkopolskie\, Poland;X-APPLE-RADIUS=100;X-TITLE=Filia Biblioteki Public
 znej w Kórniku-Bninie:geo:52.231174,17.095424
END:VEVENT
END:VCALENDAR