BEGIN:VCALENDAR
VERSION:2.0
PRODID:-//wp-events-plugin.com//7.1.7//EN
BEGIN:VEVENT
UID:8391@powiat.poznan.pl
DTSTART:20240920T230000Z
DTEND:20240920T230000Z
DTSTAMP:20240920T130808Z
URL:https://powiat.poznan.pl/events/mali-komandosi-3/
SUMMARY:Mali komandosi
DESCRIPTION:Mali komandosi\nWięcej informacji na puszczykowo.pl\nDzieci od
  3 do 10 lat (z podziałem na grupy).\nKategorie wiekowe:\nKADECI 3-4 lat\
 , start godz. 10.00.\nŻOŁNIERZE 5-6 lat\, start godz. 11.00.\nWOJOWNICY 
 7-8 lat\, start godz. 11.45.\nWETERANI 9-10 lat\, start godz. 12.15.\nReje
 stracja zawodników 20 min przed startem.\n\nMnóstwo ciekawych przeszkód
 \, masa śmiechu i zabawy oraz satysfakcja i radość po ukończeniu biegu
 . Po przekroczeniu mety Twój maluch otrzyma również pamiątkowy medal \
 nZapisz swoje dziecko\, przyjedźcie na bieg całą rodziną. Kibicuj i ob
 serwuj jak radzi sobie z kolejnymi przeszkodami. Trasa będzie poprowadzon
 a w taki sposób\, aby umożliwić Ci obserwowanie tego\, co się dzieje\,
  robienie zdjęć\, no i oczywiście – dopingowanie!\nInformacja: Organi
 zator.
ATTACH;FMTTYPE=image/jpeg:https://powiat.poznan.pl/wp-content/uploads/2021
 /10/event-kalendarz.png
CATEGORIES:Sport
LOCATION:Ośrodek Sportowy Impuls\, ul. Poznańska 2\, Puszczykowo\, Poland
GEO:52.2948958;16.86540489999993
X-APPLE-STRUCTURED-LOCATION;VALUE=URI;X-ADDRESS=ul. Poznańska 2\, Puszczyk
 owo\, Poland;X-APPLE-RADIUS=100;X-TITLE=Ośrodek Sportowy Impuls:geo:52.29
 48958,16.86540489999993
END:VEVENT
END:VCALENDAR