BEGIN:VCALENDAR
VERSION:2.0
PRODID:-//wp-events-plugin.com//7.1.7//EN
BEGIN:VEVENT
UID:6057@powiat.poznan.pl
DTSTART;VALUE=DATE:20220625
DTEND;VALUE=DATE:20220908
DTSTAMP:20220614T100351Z
URL:https://powiat.poznan.pl/events/malinowe-lato-9/
SUMMARY:Malinowe Lato
DESCRIPTION:Malinowe Lato w Gminie Kostrzyn\nWięcej informacji TUTAJ\n\n
ATTACH;FMTTYPE=image/jpeg:https://powiat.poznan.pl/wp-content/uploads/2022
 /06/malinowe_lato_2022__wpis_na_facebooku_.jpg
CATEGORIES:Dla dzieci,Dla seniora,Edukacja,Kultura i sztuka,Sport
LOCATION:Kostrzyn\, Park Miejski Kostrzyn\, Kostrzyn Wielkopolski\, wielkop
 olskie\, Poland
GEO:52.407449;17.242845
X-APPLE-STRUCTURED-LOCATION;VALUE=URI;X-ADDRESS=Park Miejski Kostrzyn\, Kos
 trzyn Wielkopolski\, wielkopolskie\, Poland;X-APPLE-RADIUS=100;X-TITLE=Kos
 trzyn:geo:52.407449,17.242845
END:VEVENT
END:VCALENDAR