BEGIN:VCALENDAR
VERSION:2.0
PRODID:-//wp-events-plugin.com//7.1.7//EN
BEGIN:VEVENT
UID:9030@powiat.poznan.pl
DTSTART:20250611T230000Z
DTEND:20250611T230000Z
DTSTAMP:20250522T063003Z
URL:https://powiat.poznan.pl/events/mammografia-w-rokietnicy/
SUMMARY:Mammografia w Rokietnicy
DESCRIPTION:Bezpłatne badania mammograficzne w Rokietnicy.\n\n
ATTACH;FMTTYPE=image/jpeg:https://powiat.poznan.pl/wp-content/uploads/2025
 /05/rok.jpg
CATEGORIES:Zdrowie
LOCATION:Rokietnicki Ośrodek Sportu\, Szamotulska 29\,  Rokietnica\, Polan
 d
GEO:52.5124102;16.74293739999996
X-APPLE-STRUCTURED-LOCATION;VALUE=URI;X-ADDRESS=Szamotulska 29\,  Rokietnic
 a\, Poland;X-APPLE-RADIUS=100;X-TITLE=Rokietnicki Ośrodek Sportu:geo:52.5
 124102,16.74293739999996
END:VEVENT
END:VCALENDAR