BEGIN:VCALENDAR
VERSION:2.0
PRODID:-//wp-events-plugin.com//7.1.7//EN
BEGIN:VEVENT
UID:8488@powiat.poznan.pl
DTSTART:20241013T090000Z
DTEND:20241013T090000Z
DTSTAMP:20241009T080541Z
URL:https://powiat.poznan.pl/events/marsz-pamieci-w-lasach-paledzko-zakrze
 wskich/
SUMMARY:Marsz Pamięci w lasach Palędzko-Zakrzewskich
DESCRIPTION:VI Marsz Pamięci w lasach Palędzko-Zakrzewskich\nWięcej info
 rmacji na dopiewo.pl\n\n
ATTACH;FMTTYPE=image/jpeg:https://powiat.poznan.pl/wp-content/uploads/2024
 /10/marsz-pamieci_plakat-a3_web_2024-2.webp
CATEGORIES:Uroczystości
LOCATION:Kwatera Duchownych w Zakrzewie\, ul. Niezłomnych\, 62-070 Zakrzew
 o\, 62-070\, Zakrzewo\, Poland
GEO:52.392945;16.718809
X-APPLE-STRUCTURED-LOCATION;VALUE=URI;X-ADDRESS=ul. Niezłomnych\, 62-070 Z
 akrzewo\, 62-070\, Zakrzewo\, Poland;X-APPLE-RADIUS=100;X-TITLE=Kwatera Du
 chownych w Zakrzewie:geo:52.392945,16.718809
END:VEVENT
END:VCALENDAR