BEGIN:VCALENDAR
VERSION:2.0
PRODID:-//wp-events-plugin.com//7.1.7//EN
BEGIN:VEVENT
UID:7665@powiat.poznan.pl
DTSTART:20240229T170000Z
DTEND:20240229T170000Z
DTSTAMP:20240213T125834Z
URL:https://powiat.poznan.pl/events/marszobieg-przestepny/
SUMMARY:Marszobieg Przestępny
DESCRIPTION:VIII Marszobieg Przestępny\nWięcej informacji na murowana-gos
 lina.pl\n\n
ATTACH;FMTTYPE=image/jpeg:https://powiat.poznan.pl/wp-content/uploads/2024
 /02/marszobieg-murowana-goslina.jpg
CATEGORIES:Dla seniora,Sport
LOCATION:Aula Szkoły Podstawowej Nr. 1\, ul. Mściszewska 10\, Murowana Go
 ślina\, Poland
GEO:52.5758708;17.001751199999944
X-APPLE-STRUCTURED-LOCATION;VALUE=URI;X-ADDRESS=ul. Mściszewska 10\, Murow
 ana Goślina\, Poland;X-APPLE-RADIUS=100;X-TITLE=Aula Szkoły Podstawowej 
 Nr. 1:geo:52.5758708,17.001751199999944
END:VEVENT
END:VCALENDAR