BEGIN:VCALENDAR
VERSION:2.0
PRODID:-//wp-events-plugin.com//7.1.7//EN
BEGIN:VEVENT
UID:8567@powiat.poznan.pl
DTSTART:20241027T163000Z
DTEND:20241027T163000Z
DTSTAMP:20241025T125339Z
URL:https://powiat.poznan.pl/events/mecz-pilki-recznej-w-buku/
SUMMARY:Mecz piłki ręcznej w Buku
DESCRIPTION:Mecz piłki ręcznej I Ligi Kobiet\nWięcej informacji na buk.g
 mina.pl\n\n
ATTACH;FMTTYPE=image/jpeg:https://powiat.poznan.pl/wp-content/uploads/2024
 /10/mecz-w-buku463900742_878607630913800_8409813392490286455_n.jpg
CATEGORIES:Sport
LOCATION:Hala Sportowo - Widowiskowa OSiR w Buku\, ul. Szarych Szeregów 10
 \, Buk\, 64-320\, Poland
GEO:52.354974;16.52231299999994
X-APPLE-STRUCTURED-LOCATION;VALUE=URI;X-ADDRESS=ul. Szarych Szeregów 10\, 
 Buk\, 64-320\, Poland;X-APPLE-RADIUS=100;X-TITLE=Hala Sportowo - Widowisko
 wa OSiR w Buku:geo:52.354974,16.52231299999994
END:VEVENT
END:VCALENDAR