BEGIN:VCALENDAR
VERSION:2.0
PRODID:-//wp-events-plugin.com//7.1.7//EN
BEGIN:VEVENT
UID:9011@powiat.poznan.pl
DTSTART:20250515T163000Z
DTEND:20250515T183000Z
DTSTAMP:20250508T080117Z
URL:https://powiat.poznan.pl/events/michal-rusinek-spotkanie/
SUMMARY:Michał Rusinek - spotkanie
DESCRIPTION:Biblioteka Publiczna Miasta i Gminy Kostrzyn serdecznie zaprasz
 a do udziału w spotkaniach w ramach Ogólnopolskiego Tygodnia Bibliotek. 
 15 maja o godzinie 17.30 bibliotekę odwiedzi Michał Rusinek\, pisarz\, p
 oeta\, wykładowca i wieloletni sekretarz noblistki Wisławy Szymborskiej.
  Bezpłatne bilety dostępne od 28 kwietnia. Szczegóły: www.biblioteka-k
 ostrzyn.pl.\n\n\n\n&nbsp\;
ATTACH;FMTTYPE=image/jpeg:https://powiat.poznan.pl/wp-content/uploads/2025
 /05/m.rusinek.jpg
CATEGORIES:Edukacja,Wykład
LOCATION:Biblioteka Publiczna w Kostrzynie\, ul. Poznańska 24\, Kostrzyn\,
  Poland
GEO:52.459621;16.576827
X-APPLE-STRUCTURED-LOCATION;VALUE=URI;X-ADDRESS=ul. Poznańska 24\, Kostrzy
 n\, Poland;X-APPLE-RADIUS=100;X-TITLE=Biblioteka Publiczna w Kostrzynie:ge
 o:52.459621,16.576827
END:VEVENT
END:VCALENDAR