BEGIN:VCALENDAR
VERSION:2.0
PRODID:-//wp-events-plugin.com//7.1.7//EN
BEGIN:VEVENT
UID:9255@powiat.poznan.pl
DTSTART:20250803T100000Z
DTEND:20250803T160000Z
DTSTAMP:20250728T062338Z
URL:https://powiat.poznan.pl/events/miodowe-lato-w-skansenie-2/
SUMMARY:Miodowe Lato w Skansenie
DESCRIPTION:Skansen i Muzeum Pszczelarstwa w Swarzędzu\, zaprasza w niedzi
 elę 3 sierpnia 2025 r. w godzinach 11:00 – 17:00 na festyn pszczelarski
  Miodowe Lato w Skansenie. W programie między innymi pokazy pszczelarskie
  z kiermaszem miodu\, interaktywne show\, koncerty\, pokazy wspinaczki ora
 z strefa atrakcji dla dzieci.\n\n
ATTACH;FMTTYPE=image/jpeg:https://powiat.poznan.pl/wp-content/uploads/2025
 /07/ulotka-a4-scaled.jpg
CATEGORIES:Dla dzieci,Dla
 seniora,Ekologia,Kiermasz,Piknik,Rozrywka,Społeczne
LOCATION:Skansen Pszczelarski w Swarzędzu\, ul. Poznańska 35\, Swarzędz\
 , Poland
GEO:52.4047019;17.06061669999997
X-APPLE-STRUCTURED-LOCATION;VALUE=URI;X-ADDRESS=ul. Poznańska 35\, Swarzę
 dz\, Poland;X-APPLE-RADIUS=100;X-TITLE=Skansen Pszczelarski w Swarzędzu:g
 eo:52.4047019,17.06061669999997
END:VEVENT
END:VCALENDAR