BEGIN:VCALENDAR
VERSION:2.0
PRODID:-//wp-events-plugin.com//7.1.7//EN
BEGIN:VEVENT
UID:9292@powiat.poznan.pl
DTSTART:20250831T083000Z
DTEND:20250831T133000Z
DTSTAMP:20250812T083907Z
URL:https://powiat.poznan.pl/events/mistrzostwa-powiatu-w-molkky-2/
SUMMARY:Mistrzostwa powiatu w mölkky
DESCRIPTION:Zapraszamy na Mistrzostwa Powiatu Poznańskiego w Mölkky! To k
 olejna edycja tego turnieju. Każdy może wziąć udział. Będzie to też
  doskonała szansa na sprawdzenie formy przed mstrzostwami Polski! Rozgryw
 ki drużyn 2+1 czyli drużyny dwuosobowe z możliwością osoby rezerwowej
  - będzie możliwość zmiany zawodników między setami/meczami. Limit d
 rużyn: 32 (pierwszeństwo udziału mają drużyny z Powiatu Poznańskiego
 ) - zapisy wkrótce.\nUdział w turnieju bezpłatny. Turniej współfinans
 owany przez powiat poznański.\n\n
ATTACH;FMTTYPE=image/jpeg:https://powiat.poznan.pl/wp-content/uploads/2025
 /08/528086130_1172407268250084_2387523394362852700_n.jpg
CATEGORIES:Sport
LOCATION:Boisko do Mölkky - teren sportowo-rekreacyjny\, ul. Kościelna \,
  Puszczykowo\, Poland
GEO:52.284435;16.858141
X-APPLE-STRUCTURED-LOCATION;VALUE=URI;X-ADDRESS=ul. Kościelna \, Puszczyko
 wo\, Poland;X-APPLE-RADIUS=100;X-TITLE=Boisko do Mölkky - teren sportowo-
 rekreacyjny:geo:52.284435,16.858141
END:VEVENT
END:VCALENDAR