BEGIN:VCALENDAR
VERSION:2.0
PRODID:-//wp-events-plugin.com//7.1.7//EN
BEGIN:VEVENT
UID:8270@powiat.poznan.pl
DTSTART:20240901T123000Z
DTEND:20240901T123000Z
DTSTAMP:20240812T112250Z
URL:https://powiat.poznan.pl/events/mistrzostwa-powiatu-w-molkky/
SUMMARY:Mistrzostwa powiatu w Mölkky
DESCRIPTION:Drużynowe Mistrzostwa Powiatu Poznańskiego w Mölkky w Puszcz
 ykowie 2024\nWięcej informacji na puszczykowo.pl\n\n
ATTACH;FMTTYPE=image/jpeg:https://powiat.poznan.pl/wp-content/uploads/2024
 /08/mollky_452440659_891567399667407_304818001171779454_n.jpg
CATEGORIES:Kultura i sztuka
LOCATION:Teren Sportowo-Rekreacyjny w Puszczykowie\, ul. Kościelna 7\, Pus
 zczykowo\, Poland
GEO:52.2860196;16.856484000000023
X-APPLE-STRUCTURED-LOCATION;VALUE=URI;X-ADDRESS=ul. Kościelna 7\, Puszczyk
 owo\, Poland;X-APPLE-RADIUS=100;X-TITLE=Teren Sportowo-Rekreacyjny w Puszc
 zykowie:geo:52.2860196,16.856484000000023
END:VEVENT
END:VCALENDAR