BEGIN:VCALENDAR
VERSION:2.0
PRODID:-//wp-events-plugin.com//7.1.7//EN
BEGIN:VEVENT
UID:9271@powiat.poznan.pl
DTSTART:20250809T080000Z
DTEND:20250817T160000Z
DTSTAMP:20250808T054915Z
URL:https://powiat.poznan.pl/events/moderska-dwusetka-2/
SUMMARY:Moderska dwusetka
DESCRIPTION:W dniu 9 sierpnia 2025 r.\, mieszkańcy Modrza: Piotr Nowak i M
 ichał Sokół przy wsparciu Fundacji Audax Poland\, po raz drugi organizu
 je wydarzenie rowerowe “Moderska DwuSetka”. Jest to brevet\, czyli lu
 źna jazda na rowerze bez wyścigowego charakteru\, odbywająca się droga
 mi asfaltowymi przy otwartym ruchu ulicznym\, z trasami o długości 200 k
 m i 100 km.\nW trakcie wydarzenia będzie można skorzystać z bezpłatnyc
 h\, komputerowych badań wzroku\, serwisu rowerowego\, od godziny 10:00 za
 jęć pilatesu a od godziny 11:00 zajęć na zdrowy kręgosłup.\nWięcej 
 informacji na stronie: moderskadwusetka.pl\n\n
ATTACH;FMTTYPE=image/jpeg:https://powiat.poznan.pl/wp-content/uploads/2025
 /08/1.png
CATEGORIES:Rozrywka,Społeczne,Sport,Turystyka i rekreacja
LOCATION:Modrze\, Modrze\, Modrze\, Polska\, 62-063\, Poland
GEO:52.210455;16.632754
X-APPLE-STRUCTURED-LOCATION;VALUE=URI;X-ADDRESS=Modrze\, Modrze\, Polska\, 
 62-063\, Poland;X-APPLE-RADIUS=100;X-TITLE=Modrze:geo:52.210455,16.632754
END:VEVENT
END:VCALENDAR