BEGIN:VCALENDAR
VERSION:2.0
PRODID:-//wp-events-plugin.com//7.1.7//EN
BEGIN:VEVENT
UID:8291@powiat.poznan.pl
DTSTART:20240908T090000Z
DTEND:20240908T090000Z
DTSTAMP:20240826T125452Z
URL:https://powiat.poznan.pl/events/murowana-10/
SUMMARY:Murowana 10
DESCRIPTION:Murowana 10\nWięcej informacji na murowana10\n\n
ATTACH;FMTTYPE=image/jpeg:https://powiat.poznan.pl/wp-content/uploads/2024
 /08/plakat-murowana10-scaled.jpg
CATEGORIES:Sport
LOCATION:Stadion Miejski w Murowanej Goślinie\, ul. Mściszewska 21\, Muro
 wana Goślina\, Wielkopolskie\, Poland
GEO:52.5764933;16.99581820000003
X-APPLE-STRUCTURED-LOCATION;VALUE=URI;X-ADDRESS=ul. Mściszewska 21\, Murow
 ana Goślina\, Wielkopolskie\, Poland;X-APPLE-RADIUS=100;X-TITLE=Stadion M
 iejski w Murowanej Goślinie:geo:52.5764933,16.99581820000003
END:VEVENT
END:VCALENDAR