BEGIN:VCALENDAR
VERSION:2.0
PRODID:-//wp-events-plugin.com//7.1.7//EN
BEGIN:VEVENT
UID:6363@powiat.poznan.pl
DTSTART:20221001T180000Z
DTEND:20221001T180000Z
DTSTAMP:20220928T061015Z
URL:https://powiat.poznan.pl/events/muzyka-w-jerzykowie/
SUMMARY:Muzyka w Jerzykowie
DESCRIPTION:Koncert przed konkursem H. Wieniawskiego\n
ATTACH;FMTTYPE=image/jpeg:https://powiat.poznan.pl/wp-content/uploads/2022
 /09/przed-wieniawskim-002-scaled.jpg
CATEGORIES:Dla seniora,Kultura i sztuka
LOCATION:Szkoła Podstawowa w Jerzykowie\, Spokojna 3\, Jerzykowo\, Wielkop
 olskie\, 62-007\, Poland
GEO:52.47082289999999;17.171704999999974
X-APPLE-STRUCTURED-LOCATION;VALUE=URI;X-ADDRESS=Spokojna 3\, Jerzykowo\, Wi
 elkopolskie\, 62-007\, Poland;X-APPLE-RADIUS=100;X-TITLE=Szkoła Podstawow
 a w Jerzykowie:geo:52.47082289999999,17.171704999999974
END:VEVENT
END:VCALENDAR