BEGIN:VCALENDAR
VERSION:2.0
PRODID:-//wp-events-plugin.com//7.1.7//EN
BEGIN:VEVENT
UID:9232@powiat.poznan.pl
DTSTART:20250713T170000Z
DTEND:20250713T193000Z
DTSTAMP:20250625T103209Z
URL:https://powiat.poznan.pl/events/muzyka-z-kornika-11/
SUMMARY:Muzyka z Kórnika
DESCRIPTION:XX Letni Festiwal Muzyka z Kórnika 2025  - Koncert piosenek Z
 bigniewa Wodeckiego w wykonaniu zespołu Retro Boys\, wokaliści: Wojtek D
 aniel \, Julian Kuczyński\, Tomasz Raczkiewicz\n\n
ATTACH;FMTTYPE=image/jpeg:https://powiat.poznan.pl/wp-content/uploads/2025
 /06/muzyka-z-kornika-2025.jpg
CATEGORIES:Rozrywka
LOCATION:Kórnik Arboretum\, Arboretum Kórnickie\, Kórnik\, Poland
GEO:52.243187;17.092204
X-APPLE-STRUCTURED-LOCATION;VALUE=URI;X-ADDRESS=Arboretum Kórnickie\, Kór
 nik\, Poland;X-APPLE-RADIUS=100;X-TITLE=Kórnik Arboretum:geo:52.243187,17
 .092204
END:VEVENT
END:VCALENDAR