BEGIN:VCALENDAR
VERSION:2.0
PRODID:-//wp-events-plugin.com//7.1.7//EN
BEGIN:VEVENT
UID:9235@powiat.poznan.pl
DTSTART:20250803T170000Z
DTEND:20250803T200000Z
DTSTAMP:20250625T103823Z
URL:https://powiat.poznan.pl/events/muzyka-z-kornika-13/
SUMMARY:Muzyka z Kórnika
DESCRIPTION:XX Letni Festiwal Muzyka z Kórnika 2025 -\n\nKONCERT FINAŁOWY
  GOLDEN HITS OF JAMES BOND &amp\; GRAND ROYAL ORCHESTRA\n\nKamil Franczak 
 - wokal\n\nNajwiększe przeboje muzyki filmowej w autorskich opracowaniach
 \n\n\n\n&nbsp\;
ATTACH;FMTTYPE=image/jpeg:https://powiat.poznan.pl/wp-content/uploads/2025
 /06/muzyka-z-kornika-2025.jpg
CATEGORIES:Rozrywka
LOCATION:Kórnik Prowent\, ul. Prowent\, Kórnik\, Poland
GEO:52.241194;17.088883
X-APPLE-STRUCTURED-LOCATION;VALUE=URI;X-ADDRESS=ul. Prowent\, Kórnik\, Pol
 and;X-APPLE-RADIUS=100;X-TITLE=Kórnik Prowent:geo:52.241194,17.088883
END:VEVENT
END:VCALENDAR