BEGIN:VCALENDAR
VERSION:2.0
PRODID:-//wp-events-plugin.com//7.1.7//EN
BEGIN:VEVENT
UID:8895@powiat.poznan.pl
DTSTART:20250305T230000Z
DTEND:20250412T230000Z
DTSTAMP:20250307T121321Z
URL:https://powiat.poznan.pl/events/na-wielkanocnym-stole/
SUMMARY:Na wielkanocnym stole
DESCRIPTION:Na wielkanocnym stole\nWielkopolski stół wielkanocny jest wyj
 ątkowo bogaty: z jednej strony wyśmienite wędliny: kiełbasy\, szynki\,
  sycący żur na kiełbasie z jajkiem\, z drugiej zaś kolorowe baby i maz
 urki. W zeszłorocznej odsłonie regionalnego konkursu „Na wielkanocnym 
 stole” zgłoszonych zostało aż 90 przysmaków\, a kapituła zmierzyła
  się z zadaniem degustacji i oceny potraw i wypieków zebranych na 40 met
 rowym stole. Czy w tym roku znów padnie rekord?\n\nInstytut Skrzynki\, or
 ganizator cyklu regionalnych konkursów kulinarnych\, zaprasza koła gospo
 dyń wiejskich\, lokalnych producentów oraz podmioty gastronomiczne\, a t
 akże uczniów szkół gastronomicznych do udziału w kolejnej odsłonie k
 onkursu „Na wielkanocnym stole 2025”. Przedmiotem konkursu jest wyłon
 ienie i nagrodzenie najlepszych potraw i wypieków w dwóch kategoriach: p
 otrawy mięsne (w tym mięsne pasztety z dziczyzny\, wieprzowiny\, wołowi
 ny\, drobiu\, jagnięciny\, królików\, szynki\, wędliny itp.) oraz wiel
 kanocne wypieki (m.in. serniki\, mazurki\, baby).\n\nNa laureatów w każd
 ej z kategorii czekają nagrody: Grand Prix w wysokości 750 zł\, piwo z 
 rzemieślniczego Browaru Szreniawa\, vouchery na wydarzenia w Muzeum Narod
 owym Rolnictwa i Przemysłu Rolno-Spożywczego w Szreniawie oraz zestawy u
 pominków od powiatu poznańskiego. Potrawy i wypieki z powiatu poznański
 ego będą także walczyć o tytuł “Najlepszy Smak Powiatu Poznańskieg
 o 2025”.\n\nAby wziąć udział w konkursie należy do 10 kwietnia 2025 
 r. przesłać na adres kontakt@smakipowiatupoznanskiego.pl wypełniony i p
 odpisany formularz zgłoszeniowy wraz z recepturą zgłaszanej potrawy lub
  wypieku. Każdy uczestnik może zgłosić maksymalnie trzy potrawy z kate
 gorii mięsnej oraz 3 w kategorii wielkanocnych wypieków. Regulamin konku
 rsu oraz formularz zgłoszeniowy są dostępne na stronie www.smakipowiatu
 poznanskiego.pl. Tam również więcej informacji.\n\nOrganizatorem konkur
 su i sponsorem nagród finansowych jest samorządowa instytucja kultury\, 
 Instytut Skrzynki – Instytut Dokumentacji\, Rozwoju i Promocji Dziedzict
 wa Kulturowego i Kulinarnego Powiatu Poznańskiego. Współorganizatorem K
 onkursu jest Muzeum Narodowe Rolnictwa i Przemysłu Rolno-Spożywczego w S
 zreniawie. Konkurs odbywa się pod honorowym patronatem starosty poznańsk
 iego Jana Grabkowskiego.\n\nPrzygotował: Instytut Skrzynki\n\n
ATTACH;FMTTYPE=image/jpeg:https://powiat.poznan.pl/wp-content/uploads/2025
 /03/grartika-kwadrat.jpg
CATEGORIES:Konkurs
LOCATION:Dwór Skrzynki\, Plac Parkowy 1\, Skrzynki\, gm. Stęszew\, 62-060
 \, Poland
GEO:52.342096;16.606405
X-APPLE-STRUCTURED-LOCATION;VALUE=URI;X-ADDRESS=Plac Parkowy 1\, Skrzynki\,
  gm. Stęszew\, 62-060\, Poland;X-APPLE-RADIUS=100;X-TITLE=Dwór Skrzynki:
 geo:52.342096,16.606405
END:VEVENT
END:VCALENDAR