BEGIN:VCALENDAR
VERSION:2.0
PRODID:-//wp-events-plugin.com//7.1.7//EN
BEGIN:VEVENT
UID:8505@powiat.poznan.pl
DTSTART:20241027T150000Z
DTEND:20241027T150000Z
DTSTAMP:20241010T112648Z
URL:https://powiat.poznan.pl/events/napisz-siebie-czyli-warsztaty-pisania/
SUMMARY:Napisz siebie\, czyli warsztaty pisania
DESCRIPTION:Napisz siebie\, czyli warsztaty pisania\nWięcej informacji na 
 palacjankowice.pl\n\n\n\n&nbsp\;
ATTACH;FMTTYPE=image/jpeg:https://powiat.poznan.pl/wp-content/uploads/2024
 /10/warsztaty-z-pisania_palac-jankowice.jpg
CATEGORIES:Warsztaty
LOCATION:Pałac Jankowice\, ul. Ogrodowa 2\, Jankowice\, 62-080\, Poland
GEO:52.438941;16.617316999999957
X-APPLE-STRUCTURED-LOCATION;VALUE=URI;X-ADDRESS=ul. Ogrodowa 2\, Jankowice\
 , 62-080\, Poland;X-APPLE-RADIUS=100;X-TITLE=Pałac Jankowice:geo:52.43894
 1,16.617316999999957
END:VEVENT
END:VCALENDAR