BEGIN:VCALENDAR
VERSION:2.0
PRODID:-//wp-events-plugin.com//7.1.7//EN
BEGIN:VEVENT
UID:8751@powiat.poznan.pl
DTSTART:20250131T173000Z
DTEND:20250131T173000Z
DTSTAMP:20241210T172325Z
URL:https://powiat.poznan.pl/events/nic-dwa-razy/
SUMMARY:Nic dwa razy…
DESCRIPTION:Nic dwa razy…\nChoć „nic dwa razy się nie zdarza”: liry
 zm i syntetyczność Wisławy Szymborskiej\, cudowny głos i artyzm Łucji
  Prus albo wyrafinowane i wysmakowane piosenki Kabaretu Starszych Panów\;
  może się jednak zdarzyć\, że młodzi artyści urzeczeni mądrymi teks
 tami i pięknymi kompozycjami\, włączają utwory dobrze znane i uwielbia
 ne przez Polaków do swojego repertuaru. 31 stycznia w Dworze Skrzynki bę
 dzie można sprawdzić osobiście jak z tak kultowymi hitami poradzi sobie
  Aleksandra Puro i Dawid Troczewski. Aleksandra zaśpiewa\, a na fortepian
 ie zagra Dawid. Młodzi artyści stworzą zapewne zachwycający duet i poz
 wolą na nowo odkryć klasykę polskiej piosenki. Przypomną piosenki z re
 pertuaru Łucji Prus\, Kabaretu Starszych Panów i pewnie jeszcze wiele in
 nych.\n\nAleksandra Pura-Cidyło ukończyła Akademię Muzyczna w Poznaniu
 . Jest absolwentką Wydziału Dyrygentury Chóralnej Edukacji Muzycznej i 
 Muzyki Kościelnej. Śpiewa\, gra na skrzypcach\, jest zafascynowana folkl
 orem Kresów Wschodnich. Ukończyła też wokalistykę jazzową w klasie p
 rof. Janusza Szroma. Jest laureatką wielu konkursów. Dawid Troczewski to
  wybitny muzyk dobrze już znany publiczności Dworu Skrzynki. Jest pianis
 tą\, kompozytorem i aranżerem\; absolwentem poznańskiej „Szkoły Tale
 ntów” i Akademii Muzycznej we Wrocławiu. W dorobku artystycznym ma wie
 le nagród indywidualnych i zespołowych. Jest muzykiem bardzo wszechstron
 nym\, wielokrotnie nagradzanym\, odnajdującym się w różnych stylistyka
 ch. Koncertuje i nagrywa w Polsce i zagranicą.\n\n”Nic dwa razy się ni
 e zdarza\nI zapewne z tej przyczyny\nZrodziliśmy się bez wprawy\nI pomrz
 emy bez rutyny”…\n\nNapisała dawno temu Wisława Szymborska i równie
  dawno temu – bo niemal 60 lat – brawurowo zaśpiewała ten tekst w Sp
 ocie Łucja Prus. Wbrew temu co twierdzi młode pokolenia to nie Sanah si
 ęgnęła jako pierwsza po ten wspaniały tekst naszej Noblistki. Ta sama 
 Łucja Prus\, która potem ze Skaldami zaśpiewała „W żółtych płomi
 eniach liści”- nieoficjalny muzyczny hołd złożony na przekór cenzur
 ze uczestnikom wydarzeń marca 1968 przez Agnieszkę Osiecką. A do tego 
 „Kabaret Starszych Panów” – kultowy program czarno-białej telewizj
 i. Piosenki i teksty Jerzego Wasowskiego i Jeremiego Przybory skrzące si
 ę intelektem\, przewrotną satyrą i roniące łezkę za salonami przedwo
 jennej Warszawy.  Tamtego świata i tamtych autorów już nie ma – są 
 za to odważni młodzi admiratorzy. Posłuchajmy ich 31 stycznia o godzini
 e godz. 18.30\n\nBilety do kupienia on-line na https://instytutskrzynki.pl
 /bilety/  lub https://dworskrzynki.pl/bilety/ Spotkanie zacznijmy jak zwy
 kle z półgodzinnym wyprzedzeniem\, ponieważ w trakcie koncertu serwis r
 estauracji jest nieczynny. Zapraszamy do skorzystania z oferty gastronomic
 znej restauracji Dworu Skrzynki po koncercie.\n\nPrzygotował: Instytut Sk
 rzynki\n\n
ATTACH;FMTTYPE=image/jpeg:https://powiat.poznan.pl/wp-content/uploads/2024
 /12/1-11.jpg
CATEGORIES:Kultura i sztuka
LOCATION:Dwór Skrzynki\, Plac Parkowy 1\, Skrzynki\, gm. Stęszew\, 62-060
 \, Poland
GEO:52.342096;16.606405
X-APPLE-STRUCTURED-LOCATION;VALUE=URI;X-ADDRESS=Plac Parkowy 1\, Skrzynki\,
  gm. Stęszew\, 62-060\, Poland;X-APPLE-RADIUS=100;X-TITLE=Dwór Skrzynki:
 geo:52.342096,16.606405
END:VEVENT
END:VCALENDAR