BEGIN:VCALENDAR
VERSION:2.0
PRODID:-//wp-events-plugin.com//7.1.7//EN
BEGIN:VEVENT
UID:9008@powiat.poznan.pl
DTSTART:20250514T170000Z
DTEND:20250514T190000Z
DTSTAMP:20250508T074358Z
URL:https://powiat.poznan.pl/events/nieznany-bohater-enigmy/
SUMMARY:Nieznany bohater Enigmy
DESCRIPTION:Bibliostacja zaprasza na wyjątkowe spotkanie z regionalistą T
 adeuszem Panowiczem\, który przybliży postać inż. Antoniego Pallutha 
 – wybitnego kryptologa i konstruktora\, urodzonego w Pobiedziskach. Cho
 ć nie każdy o nim słyszał\, odegrał kluczową rolę w złamaniu szyfr
 u Enigmy\, współpracując z poznańskimi matematykami i wyprzedzając dz
 iałania alianckich kryptologów.Kim był Antoni Palluth? Inżynier\, nauc
 zyciel i wynalazca. Współtwórca kopii niemieckiej maszyny szyfrującej 
 Enigma. Członek Biura Szyfrów\, które położyło fundament pod alianck
 ie sukcesy kryptograficzne. Bohater\, którego historia zaczęła się wł
 aśnie tutaj – w Pobiedziskach. Poznaj lokalnego geniusza\, którego wk
 ład w historię świata dopiero zaczynamy doceniać! Bezpłatne zaproszen
 ia w Bibliostacji. Rezerwacja: 61 669 83 21 lub SMS: 512 865 202.\n\n\n\n&
 nbsp\;\n
ATTACH;FMTTYPE=image/jpeg:https://powiat.poznan.pl/wp-content/uploads/2025
 /05/496254332_1136525768512497_7307976239353432935_n.jpg
CATEGORIES:Edukacja,Społeczne,Wykład
LOCATION:BIBLIOSTACJA w budynku Dworca Kolejowego w Pobiedziskach\, ul. Dwo
 rcowa 4\, 62-010 Pobiedziska\, Poland
GEO:52.479097;17.277737
X-APPLE-STRUCTURED-LOCATION;VALUE=URI;X-ADDRESS=ul. Dworcowa 4\, 62-010 Pob
 iedziska\, Poland;X-APPLE-RADIUS=100;X-TITLE=BIBLIOSTACJA w budynku Dworca
  Kolejowego w Pobiedziskach:geo:52.479097,17.277737
END:VEVENT
END:VCALENDAR