BEGIN:VCALENDAR
VERSION:2.0
PRODID:-//wp-events-plugin.com//7.1.7//EN
BEGIN:VEVENT
UID:6356@powiat.poznan.pl
DTSTART:20221001T173000Z
DTEND:20221001T173000Z
DTSTAMP:20220927T074240Z
URL:https://powiat.poznan.pl/events/noc-bibliotek-2022/
SUMMARY:Noc Bibliotek 2022
DESCRIPTION:Noc Bibliotek 2022\nWięcej informacji TUTAJ\n\n
ATTACH;FMTTYPE=image/jpeg:https://powiat.poznan.pl/wp-content/uploads/2022
 /09/noc-bibliotek-animals-phone-wallpaper-422x750.pngnoc.png
CATEGORIES:Dla dzieci,Ekologia,Rozrywka
LOCATION:Biblioteka Gminna w Rokietnicy\, ul. Szamotulska 29\, Rokietnica\,
  Poland
GEO:52.5124102;16.74293739999996
X-APPLE-STRUCTURED-LOCATION;VALUE=URI;X-ADDRESS=ul. Szamotulska 29\, Rokiet
 nica\, Poland;X-APPLE-RADIUS=100;X-TITLE=Biblioteka Gminna w Rokietnicy:ge
 o:52.5124102,16.74293739999996
END:VEVENT
END:VCALENDAR