BEGIN:VCALENDAR
VERSION:2.0
PRODID:-//wp-events-plugin.com//7.1.7//EN
BEGIN:VEVENT
UID:6306@powiat.poznan.pl
DTSTART:20221001T193000Z
DTEND:20221001T193000Z
DTSTAMP:20220914T111956Z
URL:https://powiat.poznan.pl/events/noc-bibliotek-4/
SUMMARY:Noc Bibliotek
DESCRIPTION:Noc Bibliotek\n
ATTACH;FMTTYPE=image/jpeg:https://powiat.poznan.pl/wp-content/uploads/2022
 /09/noc-bibliotek-na-plakat-530x750-1.jpg
CATEGORIES:Dla dzieci,Dla seniora,Edukacja,Kultura i sztuka
LOCATION:Biblioteka w Rokietnicy\, Biblioteka w Rokietnicy\, Rokietnica\, P
 oland
GEO:52.5130569;16.74025890000007
X-APPLE-STRUCTURED-LOCATION;VALUE=URI;X-ADDRESS=Biblioteka w Rokietnicy\, R
 okietnica\, Poland;X-APPLE-RADIUS=100;X-TITLE=Biblioteka w Rokietnicy:geo:
 52.5130569,16.74025890000007
END:VEVENT
END:VCALENDAR