BEGIN:VCALENDAR
VERSION:2.0
PRODID:-//wp-events-plugin.com//7.1.7//EN
BEGIN:VEVENT
UID:6323@powiat.poznan.pl
DTSTART:20221001T180000Z
DTEND:20221001T180000Z
DTSTAMP:20220920T082333Z
URL:https://powiat.poznan.pl/events/noc-bibliotek-5/
SUMMARY:Noc Bibliotek
DESCRIPTION:Noc Bibliotek – To się musi powieść\nWięcej informacji TU
 TAJ\n\n
ATTACH;FMTTYPE=image/jpeg:https://powiat.poznan.pl/wp-content/uploads/2022
 /09/noc-bibliotekzrzut-ekranu-2022-09-20-095927.jpg
CATEGORIES:Dla seniora,Kultura i sztuka
LOCATION:Centrum Kultury i Biblioteka Publiczna Gminy Suchy Las\, ul. Szkol
 na 16\, Suchy Las\, 62-002\, Poland
GEO:52.562464;16.798811900000032
X-APPLE-STRUCTURED-LOCATION;VALUE=URI;X-ADDRESS=ul. Szkolna 16\, Suchy Las\
 , 62-002\, Poland;X-APPLE-RADIUS=100;X-TITLE=Centrum Kultury i Biblioteka 
 Publiczna Gminy Suchy Las:geo:52.562464,16.798811900000032
END:VEVENT
END:VCALENDAR